BEGIN:VCALENDAR
VERSION:2.0
PRODID:icalendar-ruby
CALSCALE:GREGORIAN
METHOD:PUBLISH
BEGIN:VEVENT
DTSTAMP:20260421T082109Z
UID:f73b0cdd-463d-4de7-a3c3-385c76a47092
DTSTART:20261003T120000
DTEND:20261004T010000
DESCRIPTION:<p>Spring Fiesta 2026</p><p>Saturday 3 October</p><p>Pre Regist
 ration Now Open</p>
LOCATION:1 Margaret Ave\, Bardene\, Boksburg\, Johannesburg\, 1459
SUMMARY:Spring Fiesta 2026 - Pre Registration
URL;VALUE=URI:https://soulcandi.howler.co.za/springfiesta2026
END:VEVENT
END:VCALENDAR
